BEGIN:VCALENDAR
VERSION:2.0
PRODID:-//Welia Employee Staging IntRAnet - ECPv6.15.11//NONSGML v1.0//EN
CALSCALE:GREGORIAN
METHOD:PUBLISH
X-WR-CALNAME:Welia Employee Staging IntRAnet
X-ORIGINAL-URL:https://stagingintranet.weliahealth.org
X-WR-CALDESC:Events for Welia Employee Staging IntRAnet
REFRESH-INTERVAL;VALUE=DURATION:PT1H
X-Robots-Tag:noindex
X-PUBLISHED-TTL:PT1H
BEGIN:VTIMEZONE
TZID:America/Chicago
BEGIN:DAYLIGHT
TZOFFSETFROM:-0600
TZOFFSETTO:-0500
TZNAME:CDT
DTSTART:20240310T080000
END:DAYLIGHT
BEGIN:STANDARD
TZOFFSETFROM:-0500
TZOFFSETTO:-0600
TZNAME:CST
DTSTART:20241103T070000
END:STANDARD
BEGIN:DAYLIGHT
TZOFFSETFROM:-0600
TZOFFSETTO:-0500
TZNAME:CDT
DTSTART:20250309T080000
END:DAYLIGHT
BEGIN:STANDARD
TZOFFSETFROM:-0500
TZOFFSETTO:-0600
TZNAME:CST
DTSTART:20251102T070000
END:STANDARD
BEGIN:DAYLIGHT
TZOFFSETFROM:-0600
TZOFFSETTO:-0500
TZNAME:CDT
DTSTART:20260308T080000
END:DAYLIGHT
BEGIN:STANDARD
TZOFFSETFROM:-0500
TZOFFSETTO:-0600
TZNAME:CST
DTSTART:20261101T070000
END:STANDARD
END:VTIMEZONE
BEGIN:VEVENT
DTSTART;TZID=America/Chicago:20251008T070000
DTEND;TZID=America/Chicago:20251008T160000
DTSTAMP:20260421T155225
CREATED:20250918T162732Z
LAST-MODIFIED:20251007T135308Z
UID:64499-1759906800-1759939200@stagingintranet.weliahealth.org
SUMMARY:Employee Health Days
DESCRIPTION:Protect Yourself\, Your Family\, and Our Patients\n  \n\nFlu and tetanus shots – no sign-up required\, just stop by\nWellness labs – sign up directly at the lab for details\nCOVID-19 testing available\nFit testing is available on the following days:\n\nOctober 8 from 9:00 AM – 2:00 PM\nOctober 9 from 9:00 AM – 2:00 PM\nOctober 27 from 10:00 AM – 2:00 PM\n\n\n\nCookies!\n\nAvailable at all Employee Health Days in Mora.\nFor Hinckley and Pine City employees\, cookies will be delivered on October 8.\n\nEarly flu shots available!\nMora: Starting September 23\, flu shots will also be offered in the clinic\, med/surg nurses’ stations\, ED\, and Pharmacy. Stop by and ask a nurse to administer your vaccination. \nPine City and Hinckley: Please ask a nurse for your vaccination. \nWhy get your flu shot?\nAs healthcare workers\, getting the flu shot is one of the most important steps you can take to protect yourself and others. Vaccination helps: \n\nProtect our vulnerable patients who are at higher risk of serious complications.\nPrevent spread before you know you’re sick – you can be contagious 1–2 days before symptoms start.\nReduce missed work days so our teams stay healthy\, strong\, and ready to care for patients.\nProtect your family and coworkers by reducing transmission.\n\nTaking a few minutes to get vaccinated supports your health\, your loved ones\, your coworkers\, and the patients who depend on us.
URL:https://stagingintranet.weliahealth.org/event/employee-health-days/2025-10-08/
LOCATION:Conference Room 1\, 301 Highway 65 S\, Mora\, MN\, 55051-1899\, United States
CATEGORIES:Employee Health Days
END:VEVENT
BEGIN:VEVENT
DTSTART;TZID=America/Chicago:20251008T080000
DTEND;TZID=America/Chicago:20251008T160000
DTSTAMP:20260421T155225
CREATED:20250912T174150Z
LAST-MODIFIED:20250912T174150Z
UID:64379-1759910400-1759939200@stagingintranet.weliahealth.org
SUMMARY:Open Fitness Studio at The Welia Center
DESCRIPTION:
URL:https://stagingintranet.weliahealth.org/event/open-fitness-studio-at-the-welia-center-22/
LOCATION:Welia Center: Fitness & Community Room\, 200 N 9th St\, Mora\, MN\, 55051-1147\, United States
CATEGORIES:Caravan,Classes
END:VEVENT
BEGIN:VEVENT
DTSTART;TZID=America/Chicago:20251008T110000
DTEND;TZID=America/Chicago:20251008T140000
DTSTAMP:20260421T155225
CREATED:20250721T203033Z
LAST-MODIFIED:20250904T193358Z
UID:62257-1759921200-1759932000@stagingintranet.weliahealth.org
SUMMARY:Basic Life Support Skills Class
DESCRIPTION:If your BLS expires in 2025\, the online portion has been assigned to you in Relias. This must be completed before your hands-on skills. Please sign up for a skills session to be signed off and receive your new certification card. \n  \nHeads up: When you click ‘Add to Calendar’\, it will save the entire event duration\, but not your specific 20-minute time slot. To make sure you’re on time\, please add your personal appointment manually.
URL:https://stagingintranet.weliahealth.org/event/basic-life-supportskills-class-4/
LOCATION:Conference Rooms 2
CATEGORIES:Basic Life Support,Classes,Employee Training
ATTACH;FMTTYPE=image/png:https://stagingintranet.weliahealth.org/wp-content/uploads/category-default_default.png
END:VEVENT
BEGIN:VEVENT
DTSTART;TZID=America/Chicago:20251008T170000
DTEND;TZID=America/Chicago:20251008T183000
DTSTAMP:20260421T155225
CREATED:20250703T182117Z
LAST-MODIFIED:20250703T182143Z
UID:61950-1759942800-1759948200@stagingintranet.weliahealth.org
SUMMARY:Highway Cleanup (Mora)
DESCRIPTION:20+ volunteers are needed to help with cleanup at Kanabec and Pine County cleanup locations (10+ at each location). Kids 12+ are welcome. This is a 1-2 hour time commitment. \nDATE & TIME TO BE CONFIRMED
URL:https://stagingintranet.weliahealth.org/event/highway-cleanup/
CATEGORIES:Volunteer
END:VEVENT
END:VCALENDAR