BEGIN:VCALENDAR
VERSION:2.0
PRODID:-//Welia Employee Staging IntRAnet - ECPv6.15.11//NONSGML v1.0//EN
CALSCALE:GREGORIAN
METHOD:PUBLISH
X-WR-CALNAME:Welia Employee Staging IntRAnet
X-ORIGINAL-URL:https://stagingintranet.weliahealth.org
X-WR-CALDESC:Events for Welia Employee Staging IntRAnet
REFRESH-INTERVAL;VALUE=DURATION:PT1H
X-Robots-Tag:noindex
X-PUBLISHED-TTL:PT1H
BEGIN:VTIMEZONE
TZID:America/Chicago
BEGIN:DAYLIGHT
TZOFFSETFROM:-0600
TZOFFSETTO:-0500
TZNAME:CDT
DTSTART:20240310T080000
END:DAYLIGHT
BEGIN:STANDARD
TZOFFSETFROM:-0500
TZOFFSETTO:-0600
TZNAME:CST
DTSTART:20241103T070000
END:STANDARD
BEGIN:DAYLIGHT
TZOFFSETFROM:-0600
TZOFFSETTO:-0500
TZNAME:CDT
DTSTART:20250309T080000
END:DAYLIGHT
BEGIN:STANDARD
TZOFFSETFROM:-0500
TZOFFSETTO:-0600
TZNAME:CST
DTSTART:20251102T070000
END:STANDARD
BEGIN:DAYLIGHT
TZOFFSETFROM:-0600
TZOFFSETTO:-0500
TZNAME:CDT
DTSTART:20260308T080000
END:DAYLIGHT
BEGIN:STANDARD
TZOFFSETFROM:-0500
TZOFFSETTO:-0600
TZNAME:CST
DTSTART:20261101T070000
END:STANDARD
END:VTIMEZONE
BEGIN:VEVENT
DTSTART;TZID=America/Chicago:20251024T083000
DTEND;TZID=America/Chicago:20251024T140000
DTSTAMP:20260421T161423
CREATED:20250908T141317Z
LAST-MODIFIED:20250908T172428Z
UID:64126-1761294600-1761314400@stagingintranet.weliahealth.org
SUMMARY:Pediatric First Aid\, CPR & AED Training
DESCRIPTION:The Heartsaver Pediatric First Aid CPR AED course\, presented by the American Heart Association\, trains participants on how to respond to and manage illnesses and injuries in a child or infant in the first few minutes until professional help arrives. It reflects science and education from the American Heart Association Guidelines Update for CPR and Emergency Cardiovascular Care (ECC) and the 2015 AHA/Red Cross Guidelines for First Aid. \nWhat you’ll learn \n\nMedical and injury emergencies\nPoison and environmental emergencies\nPreventing illnesses and injuries\nControlling bleeding and bandaging\nChild and Infant CPR\nUsing an AED (Automated External Defibrillator)\nResponding to choking in infants and children\n\nWho should attend?\nThis course is ideal for anyone involved in childcare\, including: \n\nChildcare workers\nDaycare employees\nTeachers\nCamp counselors\nParents\nGrandparents\nBabysitters\nAnyone who wants to be prepared!\n\nCertification\nUpon successful completion\, you will receive a two-year certification card from the American Heart Association. \nCost\n$85.00 (payable on the day of the class by cash\, personal check\, or business check). \nRegistration\nRegistration is required. Sign up for this class by visiting WeliaHealth.org. \n\n\n\nQuestions?\nFor more information or with any questions\, please contact Welia Health’s Health and Wellness Coordinator at 320.225.3586 or wellnesscenter@WeliaHealth.org.
URL:https://stagingintranet.weliahealth.org/event/pediatric-first-aid-cpr-aed-training/
LOCATION:Welia Center: Fitness & Community Room\, 200 N 9th St\, Mora\, MN\, 55051-1147\, United States
CATEGORIES:Classes,CPR, AED and First Aid,Public Events
ATTACH;FMTTYPE=image/png:https://stagingintranet.weliahealth.org/wp-content/uploads/community-first-aid-heartsavers-700x420-1-m8WfYG.tmp_.png
END:VEVENT
END:VCALENDAR