BEGIN:VCALENDAR
VERSION:2.0
PRODID:-//Welia Employee Staging IntRAnet - ECPv6.15.11//NONSGML v1.0//EN
CALSCALE:GREGORIAN
METHOD:PUBLISH
X-ORIGINAL-URL:https://stagingintranet.weliahealth.org
X-WR-CALDESC:Events for Welia Employee Staging IntRAnet
REFRESH-INTERVAL;VALUE=DURATION:PT1H
X-Robots-Tag:noindex
X-PUBLISHED-TTL:PT1H
BEGIN:VTIMEZONE
TZID:America/Chicago
BEGIN:DAYLIGHT
TZOFFSETFROM:-0600
TZOFFSETTO:-0500
TZNAME:CDT
DTSTART:20240310T080000
END:DAYLIGHT
BEGIN:STANDARD
TZOFFSETFROM:-0500
TZOFFSETTO:-0600
TZNAME:CST
DTSTART:20241103T070000
END:STANDARD
BEGIN:DAYLIGHT
TZOFFSETFROM:-0600
TZOFFSETTO:-0500
TZNAME:CDT
DTSTART:20250309T080000
END:DAYLIGHT
BEGIN:STANDARD
TZOFFSETFROM:-0500
TZOFFSETTO:-0600
TZNAME:CST
DTSTART:20251102T070000
END:STANDARD
BEGIN:DAYLIGHT
TZOFFSETFROM:-0600
TZOFFSETTO:-0500
TZNAME:CDT
DTSTART:20260308T080000
END:DAYLIGHT
BEGIN:STANDARD
TZOFFSETFROM:-0500
TZOFFSETTO:-0600
TZNAME:CST
DTSTART:20261101T070000
END:STANDARD
END:VTIMEZONE
BEGIN:VEVENT
DTSTART;TZID=America/Chicago:20251103T080000
DTEND;TZID=America/Chicago:20251119T170000
DTSTAMP:20260422T064403
CREATED:20250930T161647Z
LAST-MODIFIED:20250930T161814Z
UID:64630-1762156800-1763571600@stagingintranet.weliahealth.org
SUMMARY:Open Enrollment for 2026
DESCRIPTION:Open Enrollment is almost here! November 3-19\, 2025.  We’re excited to announce some important updates to our benefits package for 2026 — designed to better support you and keep our offerings competitive. \nMore details to come your way!
URL:https://stagingintranet.weliahealth.org/event/open-enrollment-2026/
CATEGORIES:Employee Event
END:VEVENT
BEGIN:VEVENT
DTSTART;TZID=America/Chicago:20251007T130000
DTEND;TZID=America/Chicago:20251007T150000
DTSTAMP:20260422T064403
CREATED:20250909T204132Z
LAST-MODIFIED:20250911T003019Z
UID:64259-1759842000-1759849200@stagingintranet.weliahealth.org
SUMMARY:DC Design Works Clothing Show (Hinckley)
DESCRIPTION:Welia Health is once again partnering with DC Design Works (formerly P-D’s Embroidery) for custom embroidery and design. Don’t miss these fantastic pop-up custom apparel events taking place on each of our campuses. \n\n\n \nOrders can be placed during the event or submitted in advance. Payroll deduction is available. \n\n\n \nEvent Schedule\n\n\n \n\n\n\nMora — Monday\, October 6 | 9:00 AM – 4:00 PM Conference Rooms 1 & 2\nPine City — Tuesday\, October 7 | 9:00 AM – 12:00 PM\nHinckley — Tuesday\, October 7 | 1:00 – 3:00 PM\n\n\n\n\n\n\n\n\n\n \nHow to Pre-Order\n\n\n \n\n\n\nBrowse the catalogs (links below)\nComplete the Order Form and\, if applicable\, the Payroll Deduction Authorization.\nEmail forms to Melissa Peterson at mpeterson4@welia.org.\n\n\n\n\n\n\n\n\n\n \nBrowse Catalogs\n\n\n \n\n\n\nS&S Activewear — Wholesale clothing at case & piece pricing\nSanMar / Company Casuals — Homepage\n\n\n\n\n\n \n\n\n\n\n\n\n\n \nForms\n\n\n \n\n\n\nPayroll Deduction Authorization\nOrder Form\n\n\n\n\n\n\n\n \nQuestions? Contact Melissa Peterson at mpeterson4@welia.org.
URL:https://stagingintranet.weliahealth.org/event/dc-design-works-clothing-show-hinckley/
LOCATION:Hinckley Clinic Breakroom\, 620 Sandy Ln\, Hinckley\, MN\, 55037\, United States
CATEGORIES:Employee Event
END:VEVENT
BEGIN:VEVENT
DTSTART;TZID=America/Chicago:20251007T120000
DTEND;TZID=America/Chicago:20251007T180000
DTSTAMP:20260422T064403
CREATED:20250916T174749Z
LAST-MODIFIED:20250916T182752Z
UID:64442-1759838400-1759860000@stagingintranet.weliahealth.org
SUMMARY:Eye Care Center Frame Sale
DESCRIPTION:Save Big at the Eye Care Center!\nThe Annual Frame Sale is back—bigger and better than ever.\nExtra Savings for Welia Health Employees! Plan ahead – you can utilize payroll deduction. \n\n30% OFF your first complete pair of frames & lenses\n50% OFF your second complete pair of frames & lenses\n\nIncludes prescription sunglasses!\n(Excludes budget packages. No other discounts apply.) \nBrowse the latest looks from: \n\nTURA – Buffalo\, Lulu Guinness\nCLEARVISION – Izod\, BCBG\n\nStop by\, try on your favorites\, and enjoy light refreshments while you shop. Don’t miss your chance to update your style and save! \nDownload flyer.
URL:https://stagingintranet.weliahealth.org/event/eye-care-center-frame-sale/
LOCATION:Eye Care Center\, 301 Highway 65 S\, Mora\, MN\, 55051-1899\, United States
CATEGORIES:Employee Event
END:VEVENT
BEGIN:VEVENT
DTSTART;TZID=America/Chicago:20251007T090000
DTEND;TZID=America/Chicago:20251007T120000
DTSTAMP:20260422T064403
CREATED:20250909T204304Z
LAST-MODIFIED:20250911T002908Z
UID:64262-1759827600-1759838400@stagingintranet.weliahealth.org
SUMMARY:DC Design Works Clothing Show (Pine City)
DESCRIPTION:Welia Health is once again partnering with DC Design Works (formerly P-D’s Embroidery) for custom embroidery and design. Don’t miss these fantastic pop-up custom apparel events taking place on each of our campuses. \n\n\n\nOrders can be placed during the event or submitted in advance. Payroll deduction is available. \n\n\n\nEvent Schedule\n\n\n\n\n\n\nMora — Monday\, October 6 | 9:00 AM – 4:00 PM Conference Rooms 1 & 2\nPine City — Tuesday\, October 7 | 9:00 AM – 12:00 PM\nHinckley — Tuesday\, October 7 | 1:00 – 3:00 PM\n\n\n\n\n\n\n\n\n\n\nHow to Pre-Order\n\n\n\n\n\n\nBrowse the catalogs (links below)\nComplete the Order Form and\, if applicable\, the Payroll Deduction Authorization.\nEmail forms to Melissa Peterson at mpeterson4@welia.org.\n\n\n\n\n\n\n\n\n\n\nBrowse Catalogs\n\n\n\n\n\n\nS&S Activewear — Wholesale clothing at case & piece pricing\nSanMar / Company Casuals — Homepage\n\n\n\n\n\n\n\n\n\n\n\n\n\n\nForms\n\n\n\n\n\n\nPayroll Deduction Authorization\nOrder Form\n\n\n\n\n\n\n\n\nQuestions? Contact Melissa Peterson at mpeterson4@welia.org.
URL:https://stagingintranet.weliahealth.org/event/dc-design-works-clothing-show-pine-city/
CATEGORIES:Employee Event
END:VEVENT
BEGIN:VEVENT
DTSTART;TZID=America/Chicago:20251006T090000
DTEND;TZID=America/Chicago:20251006T160000
DTSTAMP:20260422T064403
CREATED:20250909T204000Z
LAST-MODIFIED:20250911T003042Z
UID:64257-1759741200-1759766400@stagingintranet.weliahealth.org
SUMMARY:DC Design Works Clothing Show (Mora)
DESCRIPTION:Welia Health is once again partnering with DC Design Works (formerly P-D’s Embroidery) for custom embroidery and design. Don’t miss these fantastic pop-up custom apparel events taking place on each of our campuses. \n\n\n \nOrders can be placed during the event or submitted in advance. Payroll deduction is available. \n\n\n \nEvent Schedule\n\n\n \n\n\n\nMora — Monday\, October 6 | 9:00 AM – 4:00 PM Conference Rooms 1 & 2\nPine City — Tuesday\, October 7 | 9:00 AM – 12:00 PM\nHinckley — Tuesday\, October 7 | 1:00 – 3:00 PM\n\n\n\n\n\n\n\n\n\n \nHow to Pre-Order\n\n\n \n\n\n\nBrowse the catalogs (links below)\nComplete the Order Form and\, if applicable\, the Payroll Deduction Authorization.\nEmail forms to Melissa Peterson at mpeterson4@welia.org.\n\n\n\n\n\n\n\n\n\n \nBrowse Catalogs\n\n\n \n\n\n\nS&S Activewear — Wholesale clothing at case & piece pricing\nSanMar / Company Casuals — Homepage\n\n\n\n\n\n \n\n\n\n\n\n\n\n \nForms\n\n\n \n\n\n\nPayroll Deduction Authorization\nOrder Form\n\n\n\n\n\n\n\n \nQuestions? Contact Melissa Peterson at mpeterson4@welia.org.
URL:https://stagingintranet.weliahealth.org/event/dc-design-works-clothing-show-mora/
LOCATION:Conference Room 1\, 301 Highway 65 S\, Mora\, MN\, 55051-1899\, United States
CATEGORIES:Employee Event
END:VEVENT
END:VCALENDAR