BEGIN:VCALENDAR
VERSION:2.0
PRODID:-//Welia Employee Staging IntRAnet - ECPv6.15.11//NONSGML v1.0//EN
CALSCALE:GREGORIAN
METHOD:PUBLISH
X-WR-CALNAME:Welia Employee Staging IntRAnet
X-ORIGINAL-URL:https://stagingintranet.weliahealth.org
X-WR-CALDESC:Events for Welia Employee Staging IntRAnet
REFRESH-INTERVAL;VALUE=DURATION:PT1H
X-Robots-Tag:noindex
X-PUBLISHED-TTL:PT1H
BEGIN:VTIMEZONE
TZID:America/Chicago
BEGIN:DAYLIGHT
TZOFFSETFROM:-0600
TZOFFSETTO:-0500
TZNAME:CDT
DTSTART:20240310T080000
END:DAYLIGHT
BEGIN:STANDARD
TZOFFSETFROM:-0500
TZOFFSETTO:-0600
TZNAME:CST
DTSTART:20241103T070000
END:STANDARD
BEGIN:DAYLIGHT
TZOFFSETFROM:-0600
TZOFFSETTO:-0500
TZNAME:CDT
DTSTART:20250309T080000
END:DAYLIGHT
BEGIN:STANDARD
TZOFFSETFROM:-0500
TZOFFSETTO:-0600
TZNAME:CST
DTSTART:20251102T070000
END:STANDARD
BEGIN:DAYLIGHT
TZOFFSETFROM:-0600
TZOFFSETTO:-0500
TZNAME:CDT
DTSTART:20260308T080000
END:DAYLIGHT
BEGIN:STANDARD
TZOFFSETFROM:-0500
TZOFFSETTO:-0600
TZNAME:CST
DTSTART:20261101T070000
END:STANDARD
END:VTIMEZONE
BEGIN:VEVENT
DTSTART;TZID=America/Chicago:20250907T000000
DTEND;TZID=America/Chicago:20250907T000000
DTSTAMP:20260421T140112
CREATED:20250721T203111Z
LAST-MODIFIED:20250721T203111Z
UID:62281-1757203200-1757203200@stagingintranet.weliahealth.org
SUMMARY:Grandparent's Day
DESCRIPTION:
URL:https://stagingintranet.weliahealth.org/event/grandparents-day/
CATEGORIES:Holiday: Fun
END:VEVENT
BEGIN:VEVENT
DTSTART;TZID=America/Chicago:20250913T000000
DTEND;TZID=America/Chicago:20250913T000000
DTSTAMP:20260421T140112
CREATED:20250721T203111Z
LAST-MODIFIED:20250721T203111Z
UID:62282-1757721600-1757721600@stagingintranet.weliahealth.org
SUMMARY:Positive Thinking Day
DESCRIPTION:
URL:https://stagingintranet.weliahealth.org/event/positive-thinking-day/
CATEGORIES:Holiday: Fun
END:VEVENT
BEGIN:VEVENT
DTSTART;TZID=America/Chicago:20250920T000000
DTEND;TZID=America/Chicago:20250920T000000
DTSTAMP:20260421T140112
CREATED:20250721T203111Z
LAST-MODIFIED:20250721T203111Z
UID:62283-1758326400-1758326400@stagingintranet.weliahealth.org
SUMMARY:International Eat an Apple Day
DESCRIPTION:
URL:https://stagingintranet.weliahealth.org/event/international-eat-an-apple-day/
CATEGORIES:Holiday: Fun
END:VEVENT
BEGIN:VEVENT
DTSTART;TZID=America/Chicago:20250928T000000
DTEND;TZID=America/Chicago:20250928T000000
DTSTAMP:20260421T140112
CREATED:20250721T203111Z
LAST-MODIFIED:20250721T203111Z
UID:62284-1759017600-1759017600@stagingintranet.weliahealth.org
SUMMARY:Ask a Stupid Question Day
DESCRIPTION:
URL:https://stagingintranet.weliahealth.org/event/ask-a-stupid-question-day/
CATEGORIES:Holiday: Fun
END:VEVENT
END:VCALENDAR