BEGIN:VCALENDAR
VERSION:2.0
PRODID:-//Welia Employee Staging IntRAnet - ECPv6.15.11//NONSGML v1.0//EN
CALSCALE:GREGORIAN
METHOD:PUBLISH
X-WR-CALNAME:Welia Employee Staging IntRAnet
X-ORIGINAL-URL:https://stagingintranet.weliahealth.org
X-WR-CALDESC:Events for Welia Employee Staging IntRAnet
REFRESH-INTERVAL;VALUE=DURATION:PT1H
X-Robots-Tag:noindex
X-PUBLISHED-TTL:PT1H
BEGIN:VTIMEZONE
TZID:America/Chicago
BEGIN:DAYLIGHT
TZOFFSETFROM:-0600
TZOFFSETTO:-0500
TZNAME:CDT
DTSTART:20240310T080000
END:DAYLIGHT
BEGIN:STANDARD
TZOFFSETFROM:-0500
TZOFFSETTO:-0600
TZNAME:CST
DTSTART:20241103T070000
END:STANDARD
BEGIN:DAYLIGHT
TZOFFSETFROM:-0600
TZOFFSETTO:-0500
TZNAME:CDT
DTSTART:20250309T080000
END:DAYLIGHT
BEGIN:STANDARD
TZOFFSETFROM:-0500
TZOFFSETTO:-0600
TZNAME:CST
DTSTART:20251102T070000
END:STANDARD
BEGIN:DAYLIGHT
TZOFFSETFROM:-0600
TZOFFSETTO:-0500
TZNAME:CDT
DTSTART:20260308T080000
END:DAYLIGHT
BEGIN:STANDARD
TZOFFSETFROM:-0500
TZOFFSETTO:-0600
TZNAME:CST
DTSTART:20261101T070000
END:STANDARD
END:VTIMEZONE
BEGIN:VEVENT
DTSTART;TZID=America/Chicago:20251005T000000
DTEND;TZID=America/Chicago:20251005T000000
DTSTAMP:20260421T122454
CREATED:20250721T203125Z
LAST-MODIFIED:20250721T203125Z
UID:62286-1759622400-1759622400@stagingintranet.weliahealth.org
SUMMARY:National Get Funky Day
DESCRIPTION:
URL:https://stagingintranet.weliahealth.org/event/national-get-funky-day/
CATEGORIES:Holiday: Fun
END:VEVENT
BEGIN:VEVENT
DTSTART;TZID=America/Chicago:20251016T000000
DTEND;TZID=America/Chicago:20251016T000000
DTSTAMP:20260421T122454
CREATED:20250721T203125Z
LAST-MODIFIED:20250721T203125Z
UID:62287-1760572800-1760572800@stagingintranet.weliahealth.org
SUMMARY:Boss's Day
DESCRIPTION:
URL:https://stagingintranet.weliahealth.org/event/bosss-day/
CATEGORIES:Holiday: Fun
END:VEVENT
BEGIN:VEVENT
DTSTART;TZID=America/Chicago:20251026T000000
DTEND;TZID=America/Chicago:20251026T000000
DTSTAMP:20260421T122454
CREATED:20250721T203125Z
LAST-MODIFIED:20250721T203125Z
UID:62288-1761436800-1761436800@stagingintranet.weliahealth.org
SUMMARY:National Pumpkin Day
DESCRIPTION:
URL:https://stagingintranet.weliahealth.org/event/national-pumpkin-day/
CATEGORIES:Holiday: Fun
END:VEVENT
BEGIN:VEVENT
DTSTART;TZID=America/Chicago:20251029T000000
DTEND;TZID=America/Chicago:20251029T000000
DTSTAMP:20260421T122454
CREATED:20250721T203125Z
LAST-MODIFIED:20250721T203125Z
UID:62289-1761696000-1761696000@stagingintranet.weliahealth.org
SUMMARY:National Cat Day
DESCRIPTION:
URL:https://stagingintranet.weliahealth.org/event/national-cat-day/
CATEGORIES:Holiday: Fun
END:VEVENT
END:VCALENDAR