BEGIN:VCALENDAR
VERSION:2.0
PRODID:-//Welia Employee Staging IntRAnet - ECPv6.15.11//NONSGML v1.0//EN
CALSCALE:GREGORIAN
METHOD:PUBLISH
X-ORIGINAL-URL:https://stagingintranet.weliahealth.org
X-WR-CALDESC:Events for Welia Employee Staging IntRAnet
REFRESH-INTERVAL;VALUE=DURATION:PT1H
X-Robots-Tag:noindex
X-PUBLISHED-TTL:PT1H
BEGIN:VTIMEZONE
TZID:America/Chicago
BEGIN:DAYLIGHT
TZOFFSETFROM:-0600
TZOFFSETTO:-0500
TZNAME:CDT
DTSTART:20240310T080000
END:DAYLIGHT
BEGIN:STANDARD
TZOFFSETFROM:-0500
TZOFFSETTO:-0600
TZNAME:CST
DTSTART:20241103T070000
END:STANDARD
BEGIN:DAYLIGHT
TZOFFSETFROM:-0600
TZOFFSETTO:-0500
TZNAME:CDT
DTSTART:20250309T080000
END:DAYLIGHT
BEGIN:STANDARD
TZOFFSETFROM:-0500
TZOFFSETTO:-0600
TZNAME:CST
DTSTART:20251102T070000
END:STANDARD
BEGIN:DAYLIGHT
TZOFFSETFROM:-0600
TZOFFSETTO:-0500
TZNAME:CDT
DTSTART:20260308T080000
END:DAYLIGHT
BEGIN:STANDARD
TZOFFSETFROM:-0500
TZOFFSETTO:-0600
TZNAME:CST
DTSTART:20261101T070000
END:STANDARD
END:VTIMEZONE
BEGIN:VEVENT
DTSTART;TZID=America/Chicago:20251102T000000
DTEND;TZID=America/Chicago:20251102T000000
DTSTAMP:20260421T072622
CREATED:20250721T203322Z
LAST-MODIFIED:20250721T203322Z
UID:62325-1762041600-1762041600@stagingintranet.weliahealth.org
SUMMARY:Daylight Savings Ends
DESCRIPTION:
URL:https://stagingintranet.weliahealth.org/event/daylight-savings-ends/
CATEGORIES:Holiday: US
END:VEVENT
BEGIN:VEVENT
DTSTART;TZID=America/Chicago:20251104T000000
DTEND;TZID=America/Chicago:20251104T000000
DTSTAMP:20260421T072622
CREATED:20250721T203326Z
LAST-MODIFIED:20250721T203328Z
UID:62326-1762214400-1762214400@stagingintranet.weliahealth.org
SUMMARY:Election Day
DESCRIPTION:
URL:https://stagingintranet.weliahealth.org/event/election-day/
CATEGORIES:Holiday: US
END:VEVENT
BEGIN:VEVENT
DTSTART;TZID=America/Chicago:20251111T000000
DTEND;TZID=America/Chicago:20251111T000000
DTSTAMP:20260421T072622
CREATED:20250721T203326Z
LAST-MODIFIED:20250721T203328Z
UID:62327-1762819200-1762819200@stagingintranet.weliahealth.org
SUMMARY:Veterans Day
DESCRIPTION:
URL:https://stagingintranet.weliahealth.org/event/veterans-day/
CATEGORIES:Holiday: US
END:VEVENT
BEGIN:VEVENT
DTSTART;TZID=America/Chicago:20251127T000000
DTEND;TZID=America/Chicago:20251127T000000
DTSTAMP:20260421T072622
CREATED:20250721T203326Z
LAST-MODIFIED:20250721T203328Z
UID:62328-1764201600-1764201600@stagingintranet.weliahealth.org
SUMMARY:Thanksgiving Day
DESCRIPTION:
URL:https://stagingintranet.weliahealth.org/event/thanksgiving-day/
CATEGORIES:Holiday: US
END:VEVENT
BEGIN:VEVENT
DTSTART;TZID=America/Chicago:20251128T000000
DTEND;TZID=America/Chicago:20251128T000000
DTSTAMP:20260421T072622
CREATED:20250721T203326Z
LAST-MODIFIED:20250721T203328Z
UID:62329-1764288000-1764288000@stagingintranet.weliahealth.org
SUMMARY:Black Friday
DESCRIPTION:
URL:https://stagingintranet.weliahealth.org/event/black-friday/
CATEGORIES:Holiday: US
END:VEVENT
END:VCALENDAR