BEGIN:VCALENDAR
VERSION:2.0
PRODID:-//Welia Employee Staging IntRAnet - ECPv6.15.11//NONSGML v1.0//EN
CALSCALE:GREGORIAN
METHOD:PUBLISH
X-ORIGINAL-URL:https://stagingintranet.weliahealth.org
X-WR-CALDESC:Events for Welia Employee Staging IntRAnet
REFRESH-INTERVAL;VALUE=DURATION:PT1H
X-Robots-Tag:noindex
X-PUBLISHED-TTL:PT1H
BEGIN:VTIMEZONE
TZID:America/Chicago
BEGIN:DAYLIGHT
TZOFFSETFROM:-0600
TZOFFSETTO:-0500
TZNAME:CDT
DTSTART:20240310T080000
END:DAYLIGHT
BEGIN:STANDARD
TZOFFSETFROM:-0500
TZOFFSETTO:-0600
TZNAME:CST
DTSTART:20241103T070000
END:STANDARD
BEGIN:DAYLIGHT
TZOFFSETFROM:-0600
TZOFFSETTO:-0500
TZNAME:CDT
DTSTART:20250309T080000
END:DAYLIGHT
BEGIN:STANDARD
TZOFFSETFROM:-0500
TZOFFSETTO:-0600
TZNAME:CST
DTSTART:20251102T070000
END:STANDARD
BEGIN:DAYLIGHT
TZOFFSETFROM:-0600
TZOFFSETTO:-0500
TZNAME:CDT
DTSTART:20260308T080000
END:DAYLIGHT
BEGIN:STANDARD
TZOFFSETFROM:-0500
TZOFFSETTO:-0600
TZNAME:CST
DTSTART:20261101T070000
END:STANDARD
END:VTIMEZONE
BEGIN:VEVENT
DTSTART;TZID=America/Chicago:20251125T140000
DTEND;TZID=America/Chicago:20251125T150000
DTSTAMP:20260421T054130
CREATED:20250908T141319Z
LAST-MODIFIED:20250908T173740Z
UID:64136-1764079200-1764082800@stagingintranet.weliahealth.org
SUMMARY:Heart to Heart Support Group
DESCRIPTION:Recover and thrive after a cardiac event or heart disease diagnosis. Our Heart to Heart support group\, led by experienced cardiac rehabilitation professionals\, provides education\, counseling\, and support. Learn about healthy lifestyle habits\, stress management\, and the latest treatment options. \nAs a community service\, there is no charge for this support group\, and everyone is welcome to attend. For more information\, call 320.225.3364. \nThe Heart to Heart Support Group meets the fourth Tuesday of every month\, excluding the summer\, from 2–3pm at the Welia Center.
URL:https://stagingintranet.weliahealth.org/event/heart-to-heart-support-group-3/
LOCATION:Welia Center: Fitness & Community Room\, 200 N 9th St\, Mora\, MN\, 55051-1147\, United States
CATEGORIES:Heart Disease,Public Events,Support Groups
ATTACH;FMTTYPE=image/jpeg:https://stagingintranet.weliahealth.org/wp-content/uploads/Heart-SG-430x200-JrwdlR.tmp_.jpg
END:VEVENT
END:VCALENDAR