BEGIN:VCALENDAR
VERSION:2.0
PRODID:-//Welia Employee Staging IntRAnet - ECPv6.15.11//NONSGML v1.0//EN
CALSCALE:GREGORIAN
METHOD:PUBLISH
X-ORIGINAL-URL:https://stagingintranet.weliahealth.org
X-WR-CALDESC:Events for Welia Employee Staging IntRAnet
REFRESH-INTERVAL;VALUE=DURATION:PT1H
X-Robots-Tag:noindex
X-PUBLISHED-TTL:PT1H
BEGIN:VTIMEZONE
TZID:America/Chicago
BEGIN:DAYLIGHT
TZOFFSETFROM:-0600
TZOFFSETTO:-0500
TZNAME:CDT
DTSTART:20240310T080000
END:DAYLIGHT
BEGIN:STANDARD
TZOFFSETFROM:-0500
TZOFFSETTO:-0600
TZNAME:CST
DTSTART:20241103T070000
END:STANDARD
BEGIN:DAYLIGHT
TZOFFSETFROM:-0600
TZOFFSETTO:-0500
TZNAME:CDT
DTSTART:20250309T080000
END:DAYLIGHT
BEGIN:STANDARD
TZOFFSETFROM:-0500
TZOFFSETTO:-0600
TZNAME:CST
DTSTART:20251102T070000
END:STANDARD
BEGIN:DAYLIGHT
TZOFFSETFROM:-0600
TZOFFSETTO:-0500
TZNAME:CDT
DTSTART:20260308T080000
END:DAYLIGHT
BEGIN:STANDARD
TZOFFSETFROM:-0500
TZOFFSETTO:-0600
TZNAME:CST
DTSTART:20261101T070000
END:STANDARD
END:VTIMEZONE
BEGIN:VEVENT
DTSTART;TZID=America/Chicago:20251206T170000
DTEND;TZID=America/Chicago:20251206T190000
DTSTAMP:20260419T072827
CREATED:20250703T184452Z
LAST-MODIFIED:20250703T184452Z
UID:61961-1765040400-1765047600@stagingintranet.weliahealth.org
SUMMARY:Holiday Madness in Pine City
DESCRIPTION:6 volunteers needed. \nSign up here.
URL:https://stagingintranet.weliahealth.org/event/holiday-madness-in-pine-city/
CATEGORIES:Volunteer
END:VEVENT
BEGIN:VEVENT
DTSTART;TZID=America/Chicago:20251206T160000
DTEND;TZID=America/Chicago:20251206T170000
DTSTAMP:20260419T072827
CREATED:20250703T184324Z
LAST-MODIFIED:20250703T184324Z
UID:61959-1765036800-1765040400@stagingintranet.weliahealth.org
SUMMARY:Holiday Madness 5k in Pine City
DESCRIPTION:4-6 volunteers needed to help with registration\, direct runners and hand out participation gifts  \nSign up here.
URL:https://stagingintranet.weliahealth.org/event/holiday-madness-5k-in-pine-city/
CATEGORIES:Volunteer
END:VEVENT
BEGIN:VEVENT
DTSTART;TZID=America/Chicago:20251129T160000
DTEND;TZID=America/Chicago:20251129T173000
DTSTAMP:20260419T072827
CREATED:20250703T184146Z
LAST-MODIFIED:20250703T184146Z
UID:61957-1764432000-1764437400@stagingintranet.weliahealth.org
SUMMARY:Mora Holidazzle Parade
DESCRIPTION:Six volunteers needed.  \nSign up here.
URL:https://stagingintranet.weliahealth.org/event/mora-holidazzle-parade/
CATEGORIES:Volunteer
END:VEVENT
BEGIN:VEVENT
DTSTART;TZID=America/Chicago:20251124T160000
DTEND;TZID=America/Chicago:20251124T180000
DTSTAMP:20260419T072827
CREATED:20250703T183945Z
LAST-MODIFIED:20250703T184714Z
UID:61955-1764000000-1764007200@stagingintranet.weliahealth.org
SUMMARY:Salvation Army Bell Ringing
DESCRIPTION:8-10 volunteers needed (2-3 per date)\n2-hour bellringing shifts\nCoborn’s – Mora\nDates and times to be confirmed \nSign up here.
URL:https://stagingintranet.weliahealth.org/event/salvation-army-bell-ringing/
CATEGORIES:Volunteer
END:VEVENT
BEGIN:VEVENT
DTSTART;TZID=America/Chicago:20251105T170000
DTEND;TZID=America/Chicago:20251105T183000
DTSTAMP:20260419T072827
CREATED:20250703T182235Z
LAST-MODIFIED:20250703T182235Z
UID:61953-1762362000-1762367400@stagingintranet.weliahealth.org
SUMMARY:Highway Cleanup (Pine City)
DESCRIPTION:20+ volunteers are needed to help with cleanup at Kanabec and Pine County cleanup locations (10+ at each location). Kids 12+ are welcome. This is a 1-2 hour time commitment. \nDATE & TIME TO BE CONFIRMED
URL:https://stagingintranet.weliahealth.org/event/highway-cleanup-pine-city/
CATEGORIES:Volunteer
END:VEVENT
BEGIN:VEVENT
DTSTART;TZID=America/Chicago:20251008T170000
DTEND;TZID=America/Chicago:20251008T183000
DTSTAMP:20260419T072827
CREATED:20250703T182117Z
LAST-MODIFIED:20250703T182143Z
UID:61950-1759942800-1759948200@stagingintranet.weliahealth.org
SUMMARY:Highway Cleanup (Mora)
DESCRIPTION:20+ volunteers are needed to help with cleanup at Kanabec and Pine County cleanup locations (10+ at each location). Kids 12+ are welcome. This is a 1-2 hour time commitment. \nDATE & TIME TO BE CONFIRMED
URL:https://stagingintranet.weliahealth.org/event/highway-cleanup/
CATEGORIES:Volunteer
END:VEVENT
BEGIN:VEVENT
DTSTART;TZID=America/Chicago:20250920T080000
DTEND;TZID=America/Chicago:20250920T210000
DTSTAMP:20260419T072827
CREATED:20250703T184909Z
LAST-MODIFIED:20250703T184909Z
UID:61964-1758355200-1758402000@stagingintranet.weliahealth.org
SUMMARY:Mora Bike Tour
DESCRIPTION:3-4 volunteers to help with registration\, hand out water\, Gatorade\, fruit \nSign up here.
URL:https://stagingintranet.weliahealth.org/event/mora-bike-tour/
CATEGORIES:Volunteer
END:VEVENT
BEGIN:VEVENT
DTSTART;TZID=America/Chicago:20250906T103000
DTEND;TZID=America/Chicago:20250906T153000
DTSTAMP:20260419T072827
CREATED:20250703T175234Z
LAST-MODIFIED:20250703T175514Z
UID:61947-1757154600-1757172600@stagingintranet.weliahealth.org
SUMMARY:Goldie Classic Golf Tourney
DESCRIPTION:Four volunteers are needed to run a game on hole #4. All proceeds to to the American Cancer Society. \nSign up here.
URL:https://stagingintranet.weliahealth.org/event/goldie-classic-golf-tourney/
CATEGORIES:Volunteer
END:VEVENT
BEGIN:VEVENT
DTSTART;TZID=America/Chicago:20250816T073000
DTEND;TZID=America/Chicago:20250816T123000
DTSTAMP:20260419T072827
CREATED:20250703T175040Z
LAST-MODIFIED:20250703T175505Z
UID:61945-1755329400-1755347400@stagingintranet.weliahealth.org
SUMMARY:Mora Half Marathon
DESCRIPTION:Eight volunteers are needed for two-hour shifts to hand out water\, Gatorade\, and sponges at the water stop.  \nSign up here.
URL:https://stagingintranet.weliahealth.org/event/mora-half-marathon/
CATEGORIES:Volunteer
END:VEVENT
BEGIN:VEVENT
DTSTART;TZID=America/Chicago:20250802T160000
DTEND;TZID=America/Chicago:20250802T183000
DTSTAMP:20260419T072827
CREATED:20250703T174738Z
LAST-MODIFIED:20250703T175455Z
UID:61943-1754150400-1754159400@stagingintranet.weliahealth.org
SUMMARY:Pine County Parade
DESCRIPTION:16-20 volunteers needed.  \nSign up here.
URL:https://stagingintranet.weliahealth.org/event/pine-county-parade/
CATEGORIES:Volunteer
END:VEVENT
BEGIN:VEVENT
DTSTART;TZID=America/Chicago:20250802T073000
DTEND;TZID=America/Chicago:20250802T100000
DTSTAMP:20260419T072827
CREATED:20250703T174614Z
LAST-MODIFIED:20250703T175443Z
UID:61941-1754119800-1754128800@stagingintranet.weliahealth.org
SUMMARY:Pine City Fun Run
DESCRIPTION:2-4 volunteers needed to help with timing the race.  \nSign up here.
URL:https://stagingintranet.weliahealth.org/event/pine-city-fun-run/
CATEGORIES:Volunteer
END:VEVENT
BEGIN:VEVENT
DTSTART;TZID=America/Chicago:20250726T160000
DTEND;TZID=America/Chicago:20250726T180000
DTSTAMP:20260419T072827
CREATED:20250703T174439Z
LAST-MODIFIED:20250703T181510Z
UID:61939-1753545600-1753552800@stagingintranet.weliahealth.org
SUMMARY:Mora Parade
DESCRIPTION:16-20 volunteers needed. Sign up here.
URL:https://stagingintranet.weliahealth.org/event/mora-parade/
CATEGORIES:Volunteer
END:VEVENT
BEGIN:VEVENT
DTSTART;TZID=America/Chicago:20250719T093000
DTEND;TZID=America/Chicago:20250719T233000
DTSTAMP:20260419T072827
CREATED:20250703T174315Z
LAST-MODIFIED:20250703T181339Z
UID:61937-1752917400-1752967800@stagingintranet.weliahealth.org
SUMMARY:Corn and Clover Parade
DESCRIPTION:Twelve volunteers needed. Sign up here.
URL:https://stagingintranet.weliahealth.org/event/corn-and-clover-parade/
CATEGORIES:Volunteer
END:VEVENT
END:VCALENDAR