BEGIN:VCALENDAR
VERSION:2.0
PRODID:-//Welia Employee Staging IntRAnet - ECPv6.15.11//NONSGML v1.0//EN
CALSCALE:GREGORIAN
METHOD:PUBLISH
X-WR-CALNAME:Welia Employee Staging IntRAnet
X-ORIGINAL-URL:https://stagingintranet.weliahealth.org
X-WR-CALDESC:Events for Welia Employee Staging IntRAnet
REFRESH-INTERVAL;VALUE=DURATION:PT1H
X-Robots-Tag:noindex
X-PUBLISHED-TTL:PT1H
BEGIN:VTIMEZONE
TZID:America/Chicago
BEGIN:DAYLIGHT
TZOFFSETFROM:-0600
TZOFFSETTO:-0500
TZNAME:CDT
DTSTART:20240310T080000
END:DAYLIGHT
BEGIN:STANDARD
TZOFFSETFROM:-0500
TZOFFSETTO:-0600
TZNAME:CST
DTSTART:20241103T070000
END:STANDARD
BEGIN:DAYLIGHT
TZOFFSETFROM:-0600
TZOFFSETTO:-0500
TZNAME:CDT
DTSTART:20250309T080000
END:DAYLIGHT
BEGIN:STANDARD
TZOFFSETFROM:-0500
TZOFFSETTO:-0600
TZNAME:CST
DTSTART:20251102T070000
END:STANDARD
BEGIN:DAYLIGHT
TZOFFSETFROM:-0600
TZOFFSETTO:-0500
TZNAME:CDT
DTSTART:20260308T080000
END:DAYLIGHT
BEGIN:STANDARD
TZOFFSETFROM:-0500
TZOFFSETTO:-0600
TZNAME:CST
DTSTART:20261101T070000
END:STANDARD
END:VTIMEZONE
BEGIN:VEVENT
DTSTART;TZID=America/Chicago:20250916T090000
DTEND;TZID=America/Chicago:20250916T140000
DTSTAMP:20260420T180206
CREATED:20250721T203043Z
LAST-MODIFIED:20250904T194304Z
UID:62261-1758013200-1758031200@stagingintranet.weliahealth.org
SUMMARY:Basic Life Support Skills Class
DESCRIPTION:If your BLS expires in 2025\, the online portion has been assigned to you in Relias. This must be completed before your hands-on skills. Please sign up for a skills session to be signed off and receive your new certification card. \n  \nHeads up: When you click ‘Add to Calendar’\, it will save the entire event duration\, but not your specific 20-minute time slot. To make sure you’re on time\, please add your personal appointment manually.
URL:https://stagingintranet.weliahealth.org/event/basic-life-supportskills-class-6/
CATEGORIES:Basic Life Support,Classes,Employee Training
ATTACH;FMTTYPE=image/png:https://stagingintranet.weliahealth.org/wp-content/uploads/category-default_default.png
END:VEVENT
BEGIN:VEVENT
DTSTART;TZID=America/Chicago:20250916T090000
DTEND;TZID=America/Chicago:20250916T120000
DTSTAMP:20260420T180207
CREATED:20250912T172817Z
LAST-MODIFIED:20250912T172817Z
UID:64348-1758013200-1758024000@stagingintranet.weliahealth.org
SUMMARY:Open Fitness Studio at The Welia Center
DESCRIPTION:
URL:https://stagingintranet.weliahealth.org/event/open-fitness-studio-at-the-welia-center-7/
LOCATION:Welia Center: Fitness & Community Room\, 200 N 9th St\, Mora\, MN\, 55051-1147\, United States
CATEGORIES:Caravan,Classes
END:VEVENT
BEGIN:VEVENT
DTSTART;TZID=America/Chicago:20250913T000000
DTEND;TZID=America/Chicago:20250913T000000
DTSTAMP:20260420T180207
CREATED:20250721T203111Z
LAST-MODIFIED:20250721T203111Z
UID:62282-1757721600-1757721600@stagingintranet.weliahealth.org
SUMMARY:Positive Thinking Day
DESCRIPTION:
URL:https://stagingintranet.weliahealth.org/event/positive-thinking-day/
CATEGORIES:Holiday: Fun
END:VEVENT
BEGIN:VEVENT
DTSTART;TZID=America/Chicago:20250912T083000
DTEND;TZID=America/Chicago:20250912T083000
DTSTAMP:20260420T180207
CREATED:20250912T172201Z
LAST-MODIFIED:20250912T172201Z
UID:64338-1757665800-1757665800@stagingintranet.weliahealth.org
SUMMARY:Open Fitness Studio at The Welia Center
DESCRIPTION:
URL:https://stagingintranet.weliahealth.org/event/open-fitness-studio-at-the-welia-center-2/
LOCATION:Welia Center: Fitness & Community Room\, 200 N 9th St\, Mora\, MN\, 55051-1147\, United States
CATEGORIES:Caravan,Classes
END:VEVENT
BEGIN:VEVENT
DTSTART;TZID=America/Chicago:20250912T080000
DTEND;TZID=America/Chicago:20250912T150000
DTSTAMP:20260420T180207
CREATED:20250912T172708Z
LAST-MODIFIED:20250912T172708Z
UID:64346-1757664000-1757689200@stagingintranet.weliahealth.org
SUMMARY:Open Fitness Studio at The Welia Center
DESCRIPTION:
URL:https://stagingintranet.weliahealth.org/event/open-fitness-studio-at-the-welia-center-6/
LOCATION:Welia Center: Fitness & Community Room\, 200 N 9th St\, Mora\, MN\, 55051-1147\, United States
CATEGORIES:Caravan,Classes
END:VEVENT
BEGIN:VEVENT
DTSTART;TZID=America/Chicago:20250911T000000
DTEND;TZID=America/Chicago:20250911T000000
DTSTAMP:20260420T180207
CREATED:20250721T203303Z
LAST-MODIFIED:20250721T203303Z
UID:62318-1757548800-1757548800@stagingintranet.weliahealth.org
SUMMARY:Patriot Day
DESCRIPTION:
URL:https://stagingintranet.weliahealth.org/event/patriot-day/
CATEGORIES:Holiday: US
END:VEVENT
BEGIN:VEVENT
DTSTART;TZID=America/Chicago:20250910T113000
DTEND;TZID=America/Chicago:20250910T160000
DTSTAMP:20260420T180207
CREATED:20250912T172602Z
LAST-MODIFIED:20250912T172602Z
UID:64344-1757503800-1757520000@stagingintranet.weliahealth.org
SUMMARY:Open Fitness Studio at The Welia Center
DESCRIPTION:
URL:https://stagingintranet.weliahealth.org/event/open-fitness-studio-at-the-welia-center-5/
LOCATION:Welia Center: Fitness & Community Room\, 200 N 9th St\, Mora\, MN\, 55051-1147\, United States
CATEGORIES:Caravan,Classes
ORGANIZER;CN="Health and Wellness Coordinator":MAILTO:wellnesscenter@WeliaHealth.org
END:VEVENT
BEGIN:VEVENT
DTSTART;TZID=America/Chicago:20250910T080000
DTEND;TZID=America/Chicago:20250910T093000
DTSTAMP:20260420T180207
CREATED:20250912T172449Z
LAST-MODIFIED:20250912T172449Z
UID:64342-1757491200-1757496600@stagingintranet.weliahealth.org
SUMMARY:Open Fitness Studio at The Welia Center
DESCRIPTION:
URL:https://stagingintranet.weliahealth.org/event/open-fitness-studio-at-the-welia-center-4/
CATEGORIES:Caravan,Classes
END:VEVENT
BEGIN:VEVENT
DTSTART;TZID=America/Chicago:20250910T000000
DTEND;TZID=America/Chicago:20250910T000000
DTSTAMP:20260420T180207
CREATED:20250721T203043Z
LAST-MODIFIED:20250721T203043Z
UID:62263-1757462400-1757462400@stagingintranet.weliahealth.org
SUMMARY:National SuicidePrevention Day
DESCRIPTION:
URL:https://stagingintranet.weliahealth.org/event/national-suicideprevention-day/
CATEGORIES:Awareness
END:VEVENT
BEGIN:VEVENT
DTSTART;TZID=America/Chicago:20250909T123000
DTEND;TZID=America/Chicago:20250909T160000
DTSTAMP:20260420T180207
CREATED:20250912T172313Z
LAST-MODIFIED:20250912T172313Z
UID:64340-1757421000-1757433600@stagingintranet.weliahealth.org
SUMMARY:Open Fitness Studio at The Welia Center
DESCRIPTION:
URL:https://stagingintranet.weliahealth.org/event/open-fitness-studio-at-the-welia-center-3/
LOCATION:Welia Center: Fitness & Community Room\, 200 N 9th St\, Mora\, MN\, 55051-1147\, United States
CATEGORIES:Caravan,Classes
END:VEVENT
BEGIN:VEVENT
DTSTART;TZID=America/Chicago:20250907T000000
DTEND;TZID=America/Chicago:20250907T000000
DTSTAMP:20260420T180207
CREATED:20250721T203111Z
LAST-MODIFIED:20250721T203111Z
UID:62281-1757203200-1757203200@stagingintranet.weliahealth.org
SUMMARY:Grandparent's Day
DESCRIPTION:
URL:https://stagingintranet.weliahealth.org/event/grandparents-day/
CATEGORIES:Holiday: Fun
END:VEVENT
BEGIN:VEVENT
DTSTART;TZID=America/Chicago:20250906T103000
DTEND;TZID=America/Chicago:20250906T153000
DTSTAMP:20260420T180207
CREATED:20250703T175234Z
LAST-MODIFIED:20250703T175514Z
UID:61947-1757154600-1757172600@stagingintranet.weliahealth.org
SUMMARY:Goldie Classic Golf Tourney
DESCRIPTION:Four volunteers are needed to run a game on hole #4. All proceeds to to the American Cancer Society. \nSign up here.
URL:https://stagingintranet.weliahealth.org/event/goldie-classic-golf-tourney/
CATEGORIES:Volunteer
END:VEVENT
BEGIN:VEVENT
DTSTART;TZID=America/Chicago:20250906T000000
DTEND;TZID=America/Chicago:20250906T000000
DTSTAMP:20260420T180207
CREATED:20250721T203003Z
LAST-MODIFIED:20250721T203003Z
UID:62236-1757116800-1757116800@stagingintranet.weliahealth.org
SUMMARY:Mora Goldie Classic
DESCRIPTION:
URL:https://stagingintranet.weliahealth.org/event/mora-goldie-classic/
CATEGORIES:Community Engagement
END:VEVENT
BEGIN:VEVENT
DTSTART;TZID=America/Chicago:20250903T080000
DTEND;TZID=America/Chicago:20250903T130000
DTSTAMP:20260420T180207
CREATED:20250912T172021Z
LAST-MODIFIED:20250912T172021Z
UID:64336-1756886400-1756904400@stagingintranet.weliahealth.org
SUMMARY:Open Fitness Studio at The Welia Center
DESCRIPTION:
URL:https://stagingintranet.weliahealth.org/event/open-fitness-studio-at-the-welia-center/
LOCATION:Welia Center: Fitness & Community Room\, 200 N 9th St\, Mora\, MN\, 55051-1147\, United States
CATEGORIES:Caravan,Classes
END:VEVENT
BEGIN:VEVENT
DTSTART;TZID=America/Chicago:20250901T000000
DTEND;TZID=America/Chicago:20250901T000000
DTSTAMP:20260420T180207
CREATED:20250721T203303Z
LAST-MODIFIED:20250721T203303Z
UID:62317-1756684800-1756684800@stagingintranet.weliahealth.org
SUMMARY:Labor Day
DESCRIPTION:
URL:https://stagingintranet.weliahealth.org/event/labor-day/
CATEGORIES:Holiday: US
END:VEVENT
BEGIN:VEVENT
DTSTART;TZID=America/Chicago:20250828T000000
DTEND;TZID=America/Chicago:20250828T000000
DTSTAMP:20260420T180207
CREATED:20250721T203111Z
LAST-MODIFIED:20250721T203111Z
UID:62280-1756339200-1756339200@stagingintranet.weliahealth.org
SUMMARY:Bow Tie Day
DESCRIPTION:
URL:https://stagingintranet.weliahealth.org/event/bow-tie-day/
CATEGORIES:Holiday: Fun
END:VEVENT
BEGIN:VEVENT
DTSTART;TZID=America/Chicago:20250826T000000
DTEND;TZID=America/Chicago:20250826T000000
DTSTAMP:20260420T180207
CREATED:20250721T203109Z
LAST-MODIFIED:20250721T203109Z
UID:62279-1756166400-1756166400@stagingintranet.weliahealth.org
SUMMARY:National Dog Day
DESCRIPTION:
URL:https://stagingintranet.weliahealth.org/event/national-dog-day/
CATEGORIES:Holiday: Fun
END:VEVENT
BEGIN:VEVENT
DTSTART;TZID=America/Chicago:20250821T000000
DTEND;TZID=America/Chicago:20250821T000000
DTSTAMP:20260420T180207
CREATED:20250721T203109Z
LAST-MODIFIED:20250721T203109Z
UID:62278-1755734400-1755734400@stagingintranet.weliahealth.org
SUMMARY:Senior Citizen's Day
DESCRIPTION:
URL:https://stagingintranet.weliahealth.org/event/senior-citizens-day/
CATEGORIES:Holiday: Fun
END:VEVENT
BEGIN:VEVENT
DTSTART;TZID=America/Chicago:20250820T000000
DTEND;TZID=America/Chicago:20250820T000000
DTSTAMP:20260420T180207
CREATED:20250721T203109Z
LAST-MODIFIED:20250721T203109Z
UID:62277-1755648000-1755648000@stagingintranet.weliahealth.org
SUMMARY:World Mosquito Day
DESCRIPTION:
URL:https://stagingintranet.weliahealth.org/event/world-mosquito-day/
CATEGORIES:Holiday: Fun
END:VEVENT
BEGIN:VEVENT
DTSTART;TZID=America/Chicago:20250816T073000
DTEND;TZID=America/Chicago:20250816T123000
DTSTAMP:20260420T180207
CREATED:20250703T175040Z
LAST-MODIFIED:20250703T175505Z
UID:61945-1755329400-1755347400@stagingintranet.weliahealth.org
SUMMARY:Mora Half Marathon
DESCRIPTION:Eight volunteers are needed for two-hour shifts to hand out water\, Gatorade\, and sponges at the water stop.  \nSign up here.
URL:https://stagingintranet.weliahealth.org/event/mora-half-marathon/
CATEGORIES:Volunteer
END:VEVENT
BEGIN:VEVENT
DTSTART;TZID=America/Chicago:20250814T000000
DTEND;TZID=America/Chicago:20250814T000000
DTSTAMP:20260420T180207
CREATED:20250721T203108Z
LAST-MODIFIED:20250721T203108Z
UID:62276-1755129600-1755129600@stagingintranet.weliahealth.org
SUMMARY:National Coloring Day
DESCRIPTION:
URL:https://stagingintranet.weliahealth.org/event/national-coloring-day/
CATEGORIES:Holiday: Fun
END:VEVENT
BEGIN:VEVENT
DTSTART;TZID=America/Chicago:20250813T000000
DTEND;TZID=America/Chicago:20250813T000000
DTSTAMP:20260420T180207
CREATED:20250721T203108Z
LAST-MODIFIED:20250721T203108Z
UID:62275-1755043200-1755043200@stagingintranet.weliahealth.org
SUMMARY:National Left Hander's Day
DESCRIPTION:
URL:https://stagingintranet.weliahealth.org/event/national-left-handers-day/
CATEGORIES:Holiday: Fun
END:VEVENT
BEGIN:VEVENT
DTSTART;TZID=America/Chicago:20250809T073000
DTEND;TZID=America/Chicago:20250809T073000
DTSTAMP:20260420T180207
CREATED:20250721T203000Z
LAST-MODIFIED:20250721T203000Z
UID:62235-1754724600-1754724600@stagingintranet.weliahealth.org
SUMMARY:Mora Half Marathon
DESCRIPTION:
URL:https://stagingintranet.weliahealth.org/event/mora-half-marathon-2/
CATEGORIES:Community Engagement
END:VEVENT
BEGIN:VEVENT
DTSTART;TZID=America/Chicago:20250803T000000
DTEND;TZID=America/Chicago:20250803T000000
DTSTAMP:20260420T180207
CREATED:20250721T203105Z
LAST-MODIFIED:20250721T203105Z
UID:62274-1754179200-1754179200@stagingintranet.weliahealth.org
SUMMARY:Sister's Day
DESCRIPTION:
URL:https://stagingintranet.weliahealth.org/event/sisters-day/
CATEGORIES:Holiday: Fun
END:VEVENT
BEGIN:VEVENT
DTSTART;TZID=America/Chicago:20250803T000000
DTEND;TZID=America/Chicago:20250803T000000
DTSTAMP:20260420T180207
CREATED:20250721T203104Z
LAST-MODIFIED:20250721T203104Z
UID:62273-1754179200-1754179200@stagingintranet.weliahealth.org
SUMMARY:Friendship Day
DESCRIPTION:
URL:https://stagingintranet.weliahealth.org/event/friendship-day/
CATEGORIES:Holiday: Fun
END:VEVENT
BEGIN:VEVENT
DTSTART;TZID=America/Chicago:20250802T160000
DTEND;TZID=America/Chicago:20250802T183000
DTSTAMP:20260420T180207
CREATED:20250703T174738Z
LAST-MODIFIED:20250703T175455Z
UID:61943-1754150400-1754159400@stagingintranet.weliahealth.org
SUMMARY:Pine County Parade
DESCRIPTION:16-20 volunteers needed.  \nSign up here.
URL:https://stagingintranet.weliahealth.org/event/pine-county-parade/
CATEGORIES:Volunteer
END:VEVENT
BEGIN:VEVENT
DTSTART;TZID=America/Chicago:20250802T160000
DTEND;TZID=America/Chicago:20250802T160000
DTSTAMP:20260420T180207
CREATED:20250721T203000Z
LAST-MODIFIED:20250721T203000Z
UID:62234-1754150400-1754150400@stagingintranet.weliahealth.org
SUMMARY:Pine County Parade
DESCRIPTION:
URL:https://stagingintranet.weliahealth.org/event/pine-county-parade-2/
CATEGORIES:Community Engagement
END:VEVENT
BEGIN:VEVENT
DTSTART;TZID=America/Chicago:20250802T080000
DTEND;TZID=America/Chicago:20250802T080000
DTSTAMP:20260420T180207
CREATED:20250721T203000Z
LAST-MODIFIED:20250721T203000Z
UID:62233-1754121600-1754121600@stagingintranet.weliahealth.org
SUMMARY:Pine City Fun Run
DESCRIPTION:
URL:https://stagingintranet.weliahealth.org/event/pine-city-fun-run-2/
CATEGORIES:Community Engagement
END:VEVENT
BEGIN:VEVENT
DTSTART;TZID=America/Chicago:20250802T073000
DTEND;TZID=America/Chicago:20250802T100000
DTSTAMP:20260420T180207
CREATED:20250703T174614Z
LAST-MODIFIED:20250703T175443Z
UID:61941-1754119800-1754128800@stagingintranet.weliahealth.org
SUMMARY:Pine City Fun Run
DESCRIPTION:2-4 volunteers needed to help with timing the race.  \nSign up here.
URL:https://stagingintranet.weliahealth.org/event/pine-city-fun-run/
CATEGORIES:Volunteer
END:VEVENT
BEGIN:VEVENT
DTSTART;TZID=America/Chicago:20250802T000000
DTEND;TZID=America/Chicago:20250802T000000
DTSTAMP:20260420T180207
CREATED:20250721T203104Z
LAST-MODIFIED:20250721T203104Z
UID:62272-1754092800-1754092800@stagingintranet.weliahealth.org
SUMMARY:National Sunflower Day
DESCRIPTION:
URL:https://stagingintranet.weliahealth.org/event/national-sunflower-day/
CATEGORIES:Holiday: Fun
END:VEVENT
END:VCALENDAR