BEGIN:VCALENDAR
VERSION:2.0
PRODID:-//Welia Employee Staging IntRAnet - ECPv6.15.11//NONSGML v1.0//EN
CALSCALE:GREGORIAN
METHOD:PUBLISH
X-WR-CALNAME:Welia Employee Staging IntRAnet
X-ORIGINAL-URL:https://stagingintranet.weliahealth.org
X-WR-CALDESC:Events for Welia Employee Staging IntRAnet
REFRESH-INTERVAL;VALUE=DURATION:PT1H
X-Robots-Tag:noindex
X-PUBLISHED-TTL:PT1H
BEGIN:VTIMEZONE
TZID:America/Chicago
BEGIN:DAYLIGHT
TZOFFSETFROM:-0600
TZOFFSETTO:-0500
TZNAME:CDT
DTSTART:20240310T080000
END:DAYLIGHT
BEGIN:STANDARD
TZOFFSETFROM:-0500
TZOFFSETTO:-0600
TZNAME:CST
DTSTART:20241103T070000
END:STANDARD
BEGIN:DAYLIGHT
TZOFFSETFROM:-0600
TZOFFSETTO:-0500
TZNAME:CDT
DTSTART:20250309T080000
END:DAYLIGHT
BEGIN:STANDARD
TZOFFSETFROM:-0500
TZOFFSETTO:-0600
TZNAME:CST
DTSTART:20251102T070000
END:STANDARD
BEGIN:DAYLIGHT
TZOFFSETFROM:-0600
TZOFFSETTO:-0500
TZNAME:CDT
DTSTART:20260308T080000
END:DAYLIGHT
BEGIN:STANDARD
TZOFFSETFROM:-0500
TZOFFSETTO:-0600
TZNAME:CST
DTSTART:20261101T070000
END:STANDARD
END:VTIMEZONE
BEGIN:VEVENT
DTSTART;TZID=America/Chicago:20251007T130000
DTEND;TZID=America/Chicago:20251007T150000
DTSTAMP:20260420T022251
CREATED:20250909T204132Z
LAST-MODIFIED:20250911T003019Z
UID:64259-1759842000-1759849200@stagingintranet.weliahealth.org
SUMMARY:DC Design Works Clothing Show (Hinckley)
DESCRIPTION:Welia Health is once again partnering with DC Design Works (formerly P-D’s Embroidery) for custom embroidery and design. Don’t miss these fantastic pop-up custom apparel events taking place on each of our campuses. \n\n\n \nOrders can be placed during the event or submitted in advance. Payroll deduction is available. \n\n\n \nEvent Schedule\n\n\n \n\n\n\nMora — Monday\, October 6 | 9:00 AM – 4:00 PM Conference Rooms 1 & 2\nPine City — Tuesday\, October 7 | 9:00 AM – 12:00 PM\nHinckley — Tuesday\, October 7 | 1:00 – 3:00 PM\n\n\n\n\n\n\n\n\n\n \nHow to Pre-Order\n\n\n \n\n\n\nBrowse the catalogs (links below)\nComplete the Order Form and\, if applicable\, the Payroll Deduction Authorization.\nEmail forms to Melissa Peterson at mpeterson4@welia.org.\n\n\n\n\n\n\n\n\n\n \nBrowse Catalogs\n\n\n \n\n\n\nS&S Activewear — Wholesale clothing at case & piece pricing\nSanMar / Company Casuals — Homepage\n\n\n\n\n\n \n\n\n\n\n\n\n\n \nForms\n\n\n \n\n\n\nPayroll Deduction Authorization\nOrder Form\n\n\n\n\n\n\n\n \nQuestions? Contact Melissa Peterson at mpeterson4@welia.org.
URL:https://stagingintranet.weliahealth.org/event/dc-design-works-clothing-show-hinckley/
LOCATION:Hinckley Clinic Breakroom\, 620 Sandy Ln\, Hinckley\, MN\, 55037\, United States
CATEGORIES:Employee Event
END:VEVENT
BEGIN:VEVENT
DTSTART;TZID=America/Chicago:20251007T130000
DTEND;TZID=America/Chicago:20251007T140000
DTSTAMP:20260420T022251
CREATED:20250908T141317Z
LAST-MODIFIED:20250908T173759Z
UID:64121-1759842000-1759845600@stagingintranet.weliahealth.org
SUMMARY:Lung Disease Support Group
DESCRIPTION:Connect with others who understand the challenges of living with lung diseases like COPD\, asthma\, pulmonary hypertension\, or pulmonary fibrosis. Our group offers education and support from pulmonary rehabilitation specialists. Share experiences\, ask questions\, and learn valuable coping strategies. \nThis group is free of charge and meets the first Tuesday of every other month. Questions? Please call Rehabilitation Services at 320.225.3646
URL:https://stagingintranet.weliahealth.org/event/lung-disease-support-group/
LOCATION:Welia Health–Mora: Conference Rooms\, 301 MN-65\, Mora\, MN\, 55051\, United States
CATEGORIES:Lung Disease,Public Events,Support Groups
ATTACH;FMTTYPE=image/jpeg:https://stagingintranet.weliahealth.org/wp-content/uploads/Lung-SG-430x200-4ifcSE.tmp_.jpg
END:VEVENT
BEGIN:VEVENT
DTSTART;TZID=America/Chicago:20251007T120000
DTEND;TZID=America/Chicago:20251007T180000
DTSTAMP:20260420T022251
CREATED:20250916T174749Z
LAST-MODIFIED:20250916T182752Z
UID:64442-1759838400-1759860000@stagingintranet.weliahealth.org
SUMMARY:Eye Care Center Frame Sale
DESCRIPTION:Save Big at the Eye Care Center!\nThe Annual Frame Sale is back—bigger and better than ever.\nExtra Savings for Welia Health Employees! Plan ahead – you can utilize payroll deduction. \n\n30% OFF your first complete pair of frames & lenses\n50% OFF your second complete pair of frames & lenses\n\nIncludes prescription sunglasses!\n(Excludes budget packages. No other discounts apply.) \nBrowse the latest looks from: \n\nTURA – Buffalo\, Lulu Guinness\nCLEARVISION – Izod\, BCBG\n\nStop by\, try on your favorites\, and enjoy light refreshments while you shop. Don’t miss your chance to update your style and save! \nDownload flyer.
URL:https://stagingintranet.weliahealth.org/event/eye-care-center-frame-sale/
LOCATION:Eye Care Center\, 301 Highway 65 S\, Mora\, MN\, 55051-1899\, United States
CATEGORIES:Employee Event
END:VEVENT
BEGIN:VEVENT
DTSTART;TZID=America/Chicago:20251007T090000
DTEND;TZID=America/Chicago:20251007T160000
DTSTAMP:20260420T022251
CREATED:20250912T174101Z
LAST-MODIFIED:20250912T174101Z
UID:64377-1759827600-1759852800@stagingintranet.weliahealth.org
SUMMARY:Open Fitness Studio at The Welia Center
DESCRIPTION:
URL:https://stagingintranet.weliahealth.org/event/open-fitness-studio-at-the-welia-center-21/
LOCATION:Welia Center: Fitness & Community Room\, 200 N 9th St\, Mora\, MN\, 55051-1147\, United States
CATEGORIES:Caravan,Classes
END:VEVENT
BEGIN:VEVENT
DTSTART;TZID=America/Chicago:20251007T090000
DTEND;TZID=America/Chicago:20251007T120000
DTSTAMP:20260420T022251
CREATED:20250909T204304Z
LAST-MODIFIED:20250911T002908Z
UID:64262-1759827600-1759838400@stagingintranet.weliahealth.org
SUMMARY:DC Design Works Clothing Show (Pine City)
DESCRIPTION:Welia Health is once again partnering with DC Design Works (formerly P-D’s Embroidery) for custom embroidery and design. Don’t miss these fantastic pop-up custom apparel events taking place on each of our campuses. \n\n\n\nOrders can be placed during the event or submitted in advance. Payroll deduction is available. \n\n\n\nEvent Schedule\n\n\n\n\n\n\nMora — Monday\, October 6 | 9:00 AM – 4:00 PM Conference Rooms 1 & 2\nPine City — Tuesday\, October 7 | 9:00 AM – 12:00 PM\nHinckley — Tuesday\, October 7 | 1:00 – 3:00 PM\n\n\n\n\n\n\n\n\n\n\nHow to Pre-Order\n\n\n\n\n\n\nBrowse the catalogs (links below)\nComplete the Order Form and\, if applicable\, the Payroll Deduction Authorization.\nEmail forms to Melissa Peterson at mpeterson4@welia.org.\n\n\n\n\n\n\n\n\n\n\nBrowse Catalogs\n\n\n\n\n\n\nS&S Activewear — Wholesale clothing at case & piece pricing\nSanMar / Company Casuals — Homepage\n\n\n\n\n\n\n\n\n\n\n\n\n\n\nForms\n\n\n\n\n\n\nPayroll Deduction Authorization\nOrder Form\n\n\n\n\n\n\n\n\nQuestions? Contact Melissa Peterson at mpeterson4@welia.org.
URL:https://stagingintranet.weliahealth.org/event/dc-design-works-clothing-show-pine-city/
CATEGORIES:Employee Event
END:VEVENT
BEGIN:VEVENT
DTSTART;TZID=America/Chicago:20251006T090000
DTEND;TZID=America/Chicago:20251006T160000
DTSTAMP:20260420T022251
CREATED:20250909T204000Z
LAST-MODIFIED:20250911T003042Z
UID:64257-1759741200-1759766400@stagingintranet.weliahealth.org
SUMMARY:DC Design Works Clothing Show (Mora)
DESCRIPTION:Welia Health is once again partnering with DC Design Works (formerly P-D’s Embroidery) for custom embroidery and design. Don’t miss these fantastic pop-up custom apparel events taking place on each of our campuses. \n\n\n \nOrders can be placed during the event or submitted in advance. Payroll deduction is available. \n\n\n \nEvent Schedule\n\n\n \n\n\n\nMora — Monday\, October 6 | 9:00 AM – 4:00 PM Conference Rooms 1 & 2\nPine City — Tuesday\, October 7 | 9:00 AM – 12:00 PM\nHinckley — Tuesday\, October 7 | 1:00 – 3:00 PM\n\n\n\n\n\n\n\n\n\n \nHow to Pre-Order\n\n\n \n\n\n\nBrowse the catalogs (links below)\nComplete the Order Form and\, if applicable\, the Payroll Deduction Authorization.\nEmail forms to Melissa Peterson at mpeterson4@welia.org.\n\n\n\n\n\n\n\n\n\n \nBrowse Catalogs\n\n\n \n\n\n\nS&S Activewear — Wholesale clothing at case & piece pricing\nSanMar / Company Casuals — Homepage\n\n\n\n\n\n \n\n\n\n\n\n\n\n \nForms\n\n\n \n\n\n\nPayroll Deduction Authorization\nOrder Form\n\n\n\n\n\n\n\n \nQuestions? Contact Melissa Peterson at mpeterson4@welia.org.
URL:https://stagingintranet.weliahealth.org/event/dc-design-works-clothing-show-mora/
LOCATION:Conference Room 1\, 301 Highway 65 S\, Mora\, MN\, 55051-1899\, United States
CATEGORIES:Employee Event
END:VEVENT
BEGIN:VEVENT
DTSTART;TZID=America/Chicago:20251006T000000
DTEND;TZID=America/Chicago:20251006T000000
DTSTAMP:20260420T022251
CREATED:20250721T203043Z
LAST-MODIFIED:20250721T203043Z
UID:62264-1759708800-1759708800@stagingintranet.weliahealth.org
SUMMARY:Child Health Day
DESCRIPTION:
URL:https://stagingintranet.weliahealth.org/event/child-health-day/
CATEGORIES:Awareness
END:VEVENT
BEGIN:VEVENT
DTSTART;TZID=America/Chicago:20251005T000000
DTEND;TZID=America/Chicago:20251005T000000
DTSTAMP:20260420T022251
CREATED:20250721T203125Z
LAST-MODIFIED:20250721T203125Z
UID:62286-1759622400-1759622400@stagingintranet.weliahealth.org
SUMMARY:National Get Funky Day
DESCRIPTION:
URL:https://stagingintranet.weliahealth.org/event/national-get-funky-day/
CATEGORIES:Holiday: Fun
END:VEVENT
BEGIN:VEVENT
DTSTART;TZID=America/Chicago:20251003T080000
DTEND;TZID=America/Chicago:20251003T110000
DTSTAMP:20260420T022251
CREATED:20250912T174007Z
LAST-MODIFIED:20250912T174007Z
UID:64375-1759478400-1759489200@stagingintranet.weliahealth.org
SUMMARY:Open Fitness Studio at The Welia Center
DESCRIPTION:
URL:https://stagingintranet.weliahealth.org/event/open-fitness-studio-at-the-welia-center-20/
LOCATION:Welia Center: Fitness & Community Room\, 200 N 9th St\, Mora\, MN\, 55051-1147\, United States
CATEGORIES:Caravan,Classes
END:VEVENT
BEGIN:VEVENT
DTSTART;TZID=America/Chicago:20251002T133000
DTEND;TZID=America/Chicago:20251002T143000
DTSTAMP:20260420T022251
CREATED:20250908T141316Z
LAST-MODIFIED:20250908T172555Z
UID:64120-1759411800-1759415400@stagingintranet.weliahealth.org
SUMMARY:Diabetes Support Group – Mora
DESCRIPTION:Living with diabetes can be overwhelming. Join our supportive community of individuals with diabetes\, their families\, and friends. Our group discussions are led by knowledgeable healthcare professionals and focus on topics such as nutrition\, exercise\, medication management\, and emotional well-being. \nTo learn more\, call our diabetes educators at 320.679.1313. The group meets the first Thursday of every month.
URL:https://stagingintranet.weliahealth.org/event/diabetes-support-group-mora/
LOCATION:Welia Health–Mora: Conference Rooms\, 301 MN-65\, Mora\, MN\, 55051\, United States
CATEGORIES:Diabetes (Mora),Public Events,Support Groups
ATTACH;FMTTYPE=image/jpeg:https://stagingintranet.weliahealth.org/wp-content/uploads/Diabetes-SG-430x200-rH08NO.tmp_.jpg
END:VEVENT
BEGIN:VEVENT
DTSTART;TZID=America/Chicago:20251002T083000
DTEND;TZID=America/Chicago:20251002T163000
DTSTAMP:20260420T022251
CREATED:20250912T173929Z
LAST-MODIFIED:20250912T173929Z
UID:64373-1759393800-1759422600@stagingintranet.weliahealth.org
SUMMARY:Open Fitness Studio at The Welia Center
DESCRIPTION:
URL:https://stagingintranet.weliahealth.org/event/open-fitness-studio-at-the-welia-center-19/
LOCATION:Welia Center: Fitness & Community Room\, 200 N 9th St\, Mora\, MN\, 55051-1147\, United States
CATEGORIES:Caravan,Classes
ORGANIZER;CN="Health and Wellness Coordinator":MAILTO:wellnesscenter@WeliaHealth.org
END:VEVENT
BEGIN:VEVENT
DTSTART;TZID=America/Chicago:20251001T080000
DTEND;TZID=America/Chicago:20251001T160000
DTSTAMP:20260420T022251
CREATED:20250912T173831Z
LAST-MODIFIED:20250912T173831Z
UID:64371-1759305600-1759334400@stagingintranet.weliahealth.org
SUMMARY:Open Fitness Studio at The Welia Center
DESCRIPTION:
URL:https://stagingintranet.weliahealth.org/event/open-fitness-studio-at-the-welia-center-18/
LOCATION:Welia Center: Fitness & Community Room\, 200 N 9th St\, Mora\, MN\, 55051-1147\, United States
CATEGORIES:Caravan,Classes
END:VEVENT
BEGIN:VEVENT
DTSTART;TZID=America/Chicago:20251001T000000
DTEND;TZID=America/Chicago:20251001T000000
DTSTAMP:20260420T022251
CREATED:20250721T203321Z
LAST-MODIFIED:20250721T203321Z
UID:62321-1759276800-1759276800@stagingintranet.weliahealth.org
SUMMARY:Yom Kippur
DESCRIPTION:
URL:https://stagingintranet.weliahealth.org/event/yom-kippur/
CATEGORIES:Holiday: US
END:VEVENT
BEGIN:VEVENT
DTSTART;TZID=America/Chicago:20251001T000000
DTEND;TZID=America/Chicago:20251001T000000
DTSTAMP:20260420T022251
CREATED:20250721T203124Z
LAST-MODIFIED:20250721T203124Z
UID:62285-1759276800-1759276800@stagingintranet.weliahealth.org
SUMMARY:International Coffee Day
DESCRIPTION:
URL:https://stagingintranet.weliahealth.org/event/international-coffee-day/
CATEGORIES:Holiday: Fun
END:VEVENT
BEGIN:VEVENT
DTSTART;TZID=America/Chicago:20250930T123000
DTEND;TZID=America/Chicago:20250930T160000
DTSTAMP:20260420T022251
CREATED:20250912T173642Z
LAST-MODIFIED:20250912T173642Z
UID:64369-1759235400-1759248000@stagingintranet.weliahealth.org
SUMMARY:Open Fitness Studio at The Welia Center
DESCRIPTION:
URL:https://stagingintranet.weliahealth.org/event/open-fitness-studio-at-the-welia-center-17/
LOCATION:Welia Center: Fitness & Community Room\, 200 N 9th St\, Mora\, MN\, 55051-1147\, United States
CATEGORIES:Caravan,Classes
END:VEVENT
BEGIN:VEVENT
DTSTART;TZID=America/Chicago:20250930T090000
DTEND;TZID=America/Chicago:20250930T113000
DTSTAMP:20260420T022251
CREATED:20250912T173602Z
LAST-MODIFIED:20250912T173602Z
UID:64367-1759222800-1759231800@stagingintranet.weliahealth.org
SUMMARY:Open Fitness Studio at The Welia Center
DESCRIPTION:
URL:https://stagingintranet.weliahealth.org/event/open-fitness-studio-at-the-welia-center-16/
LOCATION:Welia Center: Fitness & Community Room\, 200 N 9th St\, Mora\, MN\, 55051-1147\, United States
CATEGORIES:Caravan,Classes
ORGANIZER;CN="Health and Wellness Coordinator":MAILTO:wellnesscenter@WeliaHealth.org
END:VEVENT
BEGIN:VEVENT
DTSTART;TZID=America/Chicago:20250928T000000
DTEND;TZID=America/Chicago:20250928T000000
DTSTAMP:20260420T022251
CREATED:20250721T203111Z
LAST-MODIFIED:20250721T203111Z
UID:62284-1759017600-1759017600@stagingintranet.weliahealth.org
SUMMARY:Ask a Stupid Question Day
DESCRIPTION:
URL:https://stagingintranet.weliahealth.org/event/ask-a-stupid-question-day/
CATEGORIES:Holiday: Fun
END:VEVENT
BEGIN:VEVENT
DTSTART;TZID=America/Chicago:20250926T080000
DTEND;TZID=America/Chicago:20250926T150000
DTSTAMP:20260420T022251
CREATED:20250912T173457Z
LAST-MODIFIED:20250912T173457Z
UID:64365-1758873600-1758898800@stagingintranet.weliahealth.org
SUMMARY:Open Fitness Studio at The Welia Center
DESCRIPTION:
URL:https://stagingintranet.weliahealth.org/event/open-fitness-studio-at-the-welia-center-15/
LOCATION:Welia Center: Fitness & Community Room\, 200 N 9th St\, Mora\, MN\, 55051-1147\, United States
CATEGORIES:Caravan,Classes
END:VEVENT
BEGIN:VEVENT
DTSTART;TZID=America/Chicago:20250925T140000
DTEND;TZID=America/Chicago:20250925T153000
DTSTAMP:20260420T022251
CREATED:20250908T141316Z
LAST-MODIFIED:20250908T173805Z
UID:64117-1758808800-1758814200@stagingintranet.weliahealth.org
SUMMARY:Low Vision Support Group
DESCRIPTION:Losing one’s vision can be a challenging experience. The Low Vision Support Group is here to provide support for you and your family\, helping you live and work independently. \nWelia Health is proud to support this group\, which is sponsored and led by State Services for the Blind\, part of the Minnesota Department of Employment and Economic Development. \nAs a community service\, there is no charge for this support group\, and everyone is welcome to attend. \nThe Low Vision Support Group meets on the fourth Thursday of each month from 2–3:30 pm at the Mora United Methodist Church\, 500 Clark Street\, Mora\, MN 55051. \nTo learn more\, please call Stacy Shamblott at 651.249.5118
URL:https://stagingintranet.weliahealth.org/event/low-vision-support-group/
LOCATION:Mora United Methodist Church\, 500 Clark Street\, Mora\, 55051\, United States
CATEGORIES:Low Vision,Public Events,Support Groups
ATTACH;FMTTYPE=image/png:https://stagingintranet.weliahealth.org/wp-content/uploads/Low-Vision-SG-430x200-1-PGlh5q.tmp_.png
END:VEVENT
BEGIN:VEVENT
DTSTART;TZID=America/Chicago:20250925T083000
DTEND;TZID=America/Chicago:20250925T160000
DTSTAMP:20260420T022251
CREATED:20250912T173407Z
LAST-MODIFIED:20250912T173407Z
UID:64363-1758789000-1758816000@stagingintranet.weliahealth.org
SUMMARY:Open Fitness Studio at The Welia Center
DESCRIPTION:
URL:https://stagingintranet.weliahealth.org/event/open-fitness-studio-at-the-welia-center-14/
LOCATION:Welia Center: Fitness & Community Room\, 200 N 9th St\, Mora\, MN\, 55051-1147\, United States
CATEGORIES:Caravan,Classes
END:VEVENT
BEGIN:VEVENT
DTSTART;TZID=America/Chicago:20250924T133000
DTEND;TZID=America/Chicago:20250924T143000
DTSTAMP:20260420T022251
CREATED:20250908T141315Z
LAST-MODIFIED:20250908T173832Z
UID:64114-1758720600-1758724200@stagingintranet.weliahealth.org
SUMMARY:Diabetes Support Group – Pine City
DESCRIPTION:Living with diabetes can be overwhelming. Join our supportive community of individuals with diabetes\, their families\, and friends. Our group discussions are led by knowledgeable healthcare professionals and focus on topics such as nutrition\, exercise\, medication management\, and emotional well-being. \nTo learn more\, call our diabetes educators at 320.679.1313. The group meets the last Wednesday of each month.
URL:https://stagingintranet.weliahealth.org/event/diabetes-support-group-pine-city/
LOCATION:Pine City Public Library\, 300 5th Sr SE\, Pine City\, Minnesota\, 55063\, United States
CATEGORIES:Diabetes (Pine City),Public Events,Support Groups
ATTACH;FMTTYPE=image/jpeg:https://stagingintranet.weliahealth.org/wp-content/uploads/Diabetes-SG-430x200-rH08NO.tmp_.jpg
END:VEVENT
BEGIN:VEVENT
DTSTART;TZID=America/Chicago:20250924T120000
DTEND;TZID=America/Chicago:20250924T140000
DTSTAMP:20260420T022251
CREATED:20250721T203033Z
LAST-MODIFIED:20250904T193254Z
UID:62256-1758715200-1758722400@stagingintranet.weliahealth.org
SUMMARY:Basic Life Support Skills Class
DESCRIPTION:If your BLS expires in 2025\, the online portion has been assigned to you in Relias. This must be completed before your hands-on skills. Please sign up for a skills session to be signed off and receive your new certification card. \n  \nHeads up: When you click ‘Add to Calendar’\, it will save the entire event duration\, but not your specific 20-minute time slot. To make sure you’re on time\, please add your personal appointment manually.
URL:https://stagingintranet.weliahealth.org/event/basic-life-supportskills-class-3/
LOCATION:Skills Training Room
CATEGORIES:Basic Life Support,Classes,Employee Training
ATTACH;FMTTYPE=image/png:https://stagingintranet.weliahealth.org/wp-content/uploads/category-default_default.png
END:VEVENT
BEGIN:VEVENT
DTSTART;TZID=America/Chicago:20250924T080000
DTEND;TZID=America/Chicago:20250924T160000
DTSTAMP:20260420T022251
CREATED:20250912T173328Z
LAST-MODIFIED:20250912T173328Z
UID:64361-1758700800-1758729600@stagingintranet.weliahealth.org
SUMMARY:Open Fitness Studio at The Welia Center
DESCRIPTION:
URL:https://stagingintranet.weliahealth.org/event/open-fitness-studio-at-the-welia-center-13/
LOCATION:Welia Center: Fitness & Community Room\, 200 N 9th St\, Mora\, MN\, 55051-1147\, United States
CATEGORIES:Caravan,Classes
END:VEVENT
BEGIN:VEVENT
DTSTART;TZID=America/Chicago:20250923T140000
DTEND;TZID=America/Chicago:20250923T150000
DTSTAMP:20260420T022251
CREATED:20250908T141315Z
LAST-MODIFIED:20250908T173731Z
UID:64111-1758636000-1758639600@stagingintranet.weliahealth.org
SUMMARY:Heart to Heart Support Group
DESCRIPTION:Recover and thrive after a cardiac event or heart disease diagnosis. Our Heart to Heart support group\, led by experienced cardiac rehabilitation professionals\, provides education\, counseling\, and support. Learn about healthy lifestyle habits\, stress management\, and the latest treatment options. \nAs a community service\, there is no charge for this support group\, and everyone is welcome to attend. For more information\, call 320.225.3364. \nThe Heart to Heart Support Group meets the fourth Tuesday of every month\, excluding the summer\, from 2–3pm at the Welia Center.
URL:https://stagingintranet.weliahealth.org/event/heart-to-heart-support-group/
LOCATION:Welia Center: Fitness & Community Room\, 200 N 9th St\, Mora\, MN\, 55051-1147\, United States
CATEGORIES:Heart Disease,Public Events,Support Groups
ATTACH;FMTTYPE=image/jpeg:https://stagingintranet.weliahealth.org/wp-content/uploads/Heart-SG-430x200-JrwdlR.tmp_.jpg
END:VEVENT
BEGIN:VEVENT
DTSTART;TZID=America/Chicago:20250923T123000
DTEND;TZID=America/Chicago:20250923T133000
DTSTAMP:20260420T022251
CREATED:20250912T173242Z
LAST-MODIFIED:20250912T173242Z
UID:64358-1758630600-1758634200@stagingintranet.weliahealth.org
SUMMARY:Open Fitness Studio at The Welia Center
DESCRIPTION:
URL:https://stagingintranet.weliahealth.org/event/open-fitness-studio-at-the-welia-center-12/
LOCATION:Welia Center: Fitness & Community Room\, 200 N 9th St\, Mora\, MN\, 55051-1147\, United States
CATEGORIES:Caravan,Classes
END:VEVENT
BEGIN:VEVENT
DTSTART;TZID=America/Chicago:20250923T090000
DTEND;TZID=America/Chicago:20250923T110000
DTSTAMP:20260420T022251
CREATED:20250912T173152Z
LAST-MODIFIED:20250912T173152Z
UID:64356-1758618000-1758625200@stagingintranet.weliahealth.org
SUMMARY:Open Fitness Studio at The Welia Center
DESCRIPTION:
URL:https://stagingintranet.weliahealth.org/event/open-fitness-studio-at-the-welia-center-11/
LOCATION:Welia Center: Fitness & Community Room\, 200 N 9th St\, Mora\, MN\, 55051-1147\, United States
CATEGORIES:Caravan,Classes
END:VEVENT
BEGIN:VEVENT
DTSTART;TZID=America/Chicago:20250922T000000
DTEND;TZID=America/Chicago:20250922T000000
DTSTAMP:20260420T022251
CREATED:20250721T203304Z
LAST-MODIFIED:20250721T203304Z
UID:62319-1758499200-1758499200@stagingintranet.weliahealth.org
SUMMARY:First Day of Fall
DESCRIPTION:
URL:https://stagingintranet.weliahealth.org/event/first-day-of-fall/
CATEGORIES:Holiday: US
END:VEVENT
BEGIN:VEVENT
DTSTART;TZID=America/Chicago:20250922T000000
DTEND;TZID=America/Chicago:20250922T000000
DTSTAMP:20260420T022251
CREATED:20250721T203304Z
LAST-MODIFIED:20250721T203304Z
UID:62320-1758499200-1758499200@stagingintranet.weliahealth.org
SUMMARY:Rosh Hashanah
DESCRIPTION:
URL:https://stagingintranet.weliahealth.org/event/rosh-hashanah/
CATEGORIES:Holiday: US
END:VEVENT
BEGIN:VEVENT
DTSTART;TZID=America/Chicago:20250920T080000
DTEND;TZID=America/Chicago:20250920T210000
DTSTAMP:20260420T022251
CREATED:20250703T184909Z
LAST-MODIFIED:20250703T184909Z
UID:61964-1758355200-1758402000@stagingintranet.weliahealth.org
SUMMARY:Mora Bike Tour
DESCRIPTION:3-4 volunteers to help with registration\, hand out water\, Gatorade\, fruit \nSign up here.
URL:https://stagingintranet.weliahealth.org/event/mora-bike-tour/
CATEGORIES:Volunteer
END:VEVENT
BEGIN:VEVENT
DTSTART;TZID=America/Chicago:20250920T080000
DTEND;TZID=America/Chicago:20250920T180000
DTSTAMP:20260420T022251
CREATED:20250721T203003Z
LAST-MODIFIED:20250721T203003Z
UID:62237-1758355200-1758391200@stagingintranet.weliahealth.org
SUMMARY:Mora Bike Tour
DESCRIPTION:
URL:https://stagingintranet.weliahealth.org/event/mora-bike-tour-2/
CATEGORIES:Community Engagement
END:VEVENT
END:VCALENDAR